Workbook

Sheet Inscrição de Atletas
A1: FICHA DE INSCRIÇÃO DE ATLETAS — CAMPEONATO NACIONAL DE KARATÉ
A4: DADOS DO DOJO / RESPONSÁVEL
A5: Nome do responsável | C5: Dojo / Clube | E5: Associação | G5: Província | I5: Telefone
A6: Cell | C6: Campeonato | D6: Campeonato Nacional 2026 | E6: Local | F6: Maputo | G6: Data | H6: 15–16/08/2026 | I6: Taxa do Dojo | J6: =Configuração!$B$2 -> 700
A7: E-mail
A9: N.º | B9: Nome completo | C9: Data de nascimento | D9: Idade | E9: Peso (kg) | F9: Sexo | G9: Competição | H9: Dorsal | I9: Dojo / Clube | J9: Valor (MT)
A10: 1 | I10: =IF(B10="","",$D$5) | J10: =IF(G10="","",IF(G10="Kata",Configuração!$B$3,IF(G10="Kumite",Configuração!$B$4,IF(G10="Ambos",Configuração!$B$5,0))))
A11: 2 | I11: =IF(B11="","",$D$5) | J11: =IF(G11="","",IF(G11="Kata",Configuração!$B$3,IF(G11="Kumite",Configuração!$B$4,IF(G11="Ambos",Configuração!$B$5,0))))
A12: 3 | I12: =IF(B12="","",$D$5) | J12: =IF(G12="","",IF(G12="Kata",Configuração!$B$3,IF(G12="Kumite",Configuração!$B$4,IF(G12="Ambos",Configuração!$B$5,0))))
A13: 4 | I13: =IF(B13="","",$D$5) | J13: =IF(G13="","",IF(G13="Kata",Configuração!$B$3,IF(G13="Kumite",Configuração!$B$4,IF(G13="Ambos",Configuração!$B$5,0))))
A14: 5 | I14: =IF(B14="","",$D$5) | J14: =IF(G14="","",IF(G14="Kata",Configuração!$B$3,IF(G14="Kumite",Configuração!$B$4,IF(G14="Ambos",Configuração!$B$5,0))))
A15: 6 | I15: =IF(B15="","",$D$5) | J15: =IF(G15="","",IF(G15="Kata",Configuração!$B$3,IF(G15="Kumite",Configuração!$B$4,IF(G15="Ambos",Configuração!$B$5,0))))
A16: 7 | D16: =IF(C16="","",YEAR(TODAY())-YEAR(C16)-IF(DATE(YEAR(TODAY()),MONTH(C16),DAY(C16))>TODAY(),1,0)) | I16: =IF(B16="","",$D$5) | J16: =IF(G16="","",IF(G16="Kata",Configuração!$B$3,IF(G16="Kumite",Configuração!$B$4,IF(G16="Ambos",Configuração!$B$5,0))))
A17: 8 | D17: =IF(C17="","",YEAR(TODAY())-YEAR(C17)-IF(DATE(YEAR(TODAY()),MONTH(C17),DAY(C17))>TODAY(),1,0)) | I17: =IF(B17="","",$D$5) | J17: =IF(G17="","",IF(G17="Kata",Configuração!$B$3,IF(G17="Kumite",Configuração!$B$4,IF(G17="Ambos",Configuração!$B$5,0))))
A18: 9 | D18: =IF(C18="","",YEAR(TODAY())-YEAR(C18)-IF(DATE(YEAR(TODAY()),MONTH(C18),DAY(C18))>TODAY(),1,0)) | I18: =IF(B18="","",$D$5) | J18: =IF(G18="","",IF(G18="Kata",Configuração!$B$3,IF(G18="Kumite",Configuração!$B$4,IF(G18="Ambos",Configuração!$B$5,0))))
A19: 10 | D19: =IF(C19="","",YEAR(TODAY())-YEAR(C19)-IF(DATE(YEAR(TODAY()),MONTH(C19),DAY(C19))>TODAY(),1,0)) | I19: =IF(B19="","",$D$5) | J19: =IF(G19="","",IF(G19="Kata",Configuração!$B$3,IF(G19="Kumite",Configuração!$B$4,IF(G19="Ambos",Configuração!$B$5,0))))
A20: 11 | D20: =IF(C20="","",YEAR(TODAY())-YEAR(C20)-IF(DATE(YEAR(TODAY()),MONTH(C20),DAY(C20))>TODAY(),1,0)) | I20: =IF(B20="","",$D$5) | J20: =IF(G20="","",IF(G20="Kata",Configuração!$B$3,IF(G20="Kumite",Configuração!$B$4,IF(G20="Ambos",Configuração!$B$5,0))))
A21: 12 | D21: =IF(C21="","",YEAR(TODAY())-YEAR(C21)-IF(DATE(YEAR(TODAY()),MONTH(C21),DAY(C21))>TODAY(),1,0)) | I21: =IF(B21="","",$D$5) | J21: =IF(G21="","",IF(G21="Kata",Configuração!$B$3,IF(G21="Kumite",Configuração!$B$4,IF(G21="Ambos",Configuração!$B$5,0))))
A22: 13 | D22: =IF(C22="","",YEAR(TODAY())-YEAR(C22)-IF(DATE(YEAR(TODAY()),MONTH(C22),DAY(C22))>TODAY(),1,0)) | I22: =IF(B22="","",$D$5) | J22: =IF(G22="","",IF(G22="Kata",Configuração!$B$3,IF(G22="Kumite",Configuração!$B$4,IF(G22="Ambos",Configuração!$B$5,0))))
A23: 14 | D23: =IF(C23="","",YEAR(TODAY())-YEAR(C23)-IF(DATE(YEAR(TODAY()),MONTH(C23),DAY(C23))>TODAY(),1,0)) | I23: =IF(B23="","",$D$5) | J23: =IF(G23="","",IF(G23="Kata",Configuração!$B$3,IF(G23="Kumite",Configuração!$B$4,IF(G23="Ambos",Configuração!$B$5,0))))
A24: 15 | D24: =IF(C24="","",YEAR(TODAY())-YEAR(C24)-IF(DATE(YEAR(TODAY()),MONTH(C24),DAY(C24))>TODAY(),1,0)) | I24: =IF(B24="","",$D$5) | J24: =IF(G24="","",IF(G24="Kata",Configuração!$B$3,IF(G24="Kumite",Configuração!$B$4,IF(G24="Ambos",Configuração!$B$5,0))))
A25: 16 | D25: =IF(C25="","",YEAR(TODAY())-YEAR(C25)-IF(DATE(YEAR(TODAY()),MONTH(C25),DAY(C25))>TODAY(),1,0)) | I25: =IF(B25="","",$D$5) | J25: =IF(G25="","",IF(G25="Kata",Configuração!$B$3,IF(G25="Kumite",Configuração!$B$4,IF(G25="Ambos",Configuração!$B$5,0))))
A26: 17 | D26: =IF(C26="","",YEAR(TODAY())-YEAR(C26)-IF(DATE(YEAR(TODAY()),MONTH(C26),DAY(C26))>TODAY(),1,0)) | I26: =IF(B26="","",$D$5) | J26: =IF(G26="","",IF(G26="Kata",Configuração!$B$3,IF(G26="Kumite",Configuração!$B$4,IF(G26="Ambos",Configuração!$B$5,0))))
A27: 18 | D27: =IF(C27="","",YEAR(TODAY())-YEAR(C27)-IF(DATE(YEAR(TODAY()),MONTH(C27),DAY(C27))>TODAY(),1,0)) | I27: =IF(B27="","",$D$5) | J27: =IF(G27="","",IF(G27="Kata",Configuração!$B$3,IF(G27="Kumite",Configuração!$B$4,IF(G27="Ambos",Configuração!$B$5,0))))
... A58: 49 | D58: =IF(C58="","",YEAR(TODAY())-YEAR(C58)-IF(DATE(YEAR(TODAY()),MONTH(C58),DAY(C58))>TODAY(),1,0)) | I58: =IF(B58="","",$D$5) | J58: =IF(G58="","",IF(G58="Kata",Configuração!$B$3,IF(G58="Kumite",Configuração!$B$4,IF(G58="Ambos",Configuração!$B$5,0))))
A59: =IF(B59="","",ROW()-9) | D59: =IF(C59="","",YEAR(TODAY())-YEAR(C59)-IF(DATE(YEAR(TODAY()),MONTH(C59),DAY(C59))>TODAY(),1,0)) | I59: =IF(B59="","",$D$5) | J59: =IF(G59="","",IF(G59="Kata",Configuração!$B$3,IF(G59="Kumite",Configuração!$B$4,IF(G59="Ambos",Configuração!$B$5,0))))
A62: RESUMO AUTOMÁTICO DA INSCRIÇÃO
A64: Indicador | B64: Resultado | D64: Indicador | E64: Resultado | G64: Indicador | H64: Resultado
A65: Total de atletas | B65: =COUNTIF(B10:B59,"<>") -> 0 | D65: Total feminino | E65: =COUNTIF(F10:F59,"Feminino") -> 0 | G65: Total por pagar | H65: =D86 -> 700
A66: Atletas em Kata | B66: =COUNTIF(G10:G59,"Kata") -> 0 | D66: Total masculino | E66: =COUNTIF(F10:F59,"Masculino") -> 0 | G66: Vagas preenchidas | H66: =B65 -> 0
A67: Atletas em Kumite | B67: =COUNTIF(G10:G59,"Kumite") -> 0 | D67: Total das competições | E67: =SUM(J10:J59) -> 0 | G67: Vagas disponíveis | H67: =50-B65 -> 50
A68: Atletas em Ambos | B68: =COUNTIF(G10:G59,"Ambos") -> 0 | D68: Total geral | E68: =D83 -> 700 | G68: Responsável | H68: =B5 -> 0
A69: Taxa do Dojo | B69: =Configuração!$B$2 -> 700 | D69: Total pago | E69: =D85 -> 0 | G69: Dojo | H69: =D5 -> 0
A71: TABELA OFICIAL DE PREÇOS E SERVIÇOS ADICIONAIS
A73: Descrição | B73: Quantidade | C73: Preço unitário | D73: Total | E73: Observação
A74: Inscrição do Clube / Dojo | B74: 1 | C74: =Configuração!$B$2 -> 700 | D74: =B74*C74 -> 700 | E74: Obrigatória e automática
A75: Kata individual | B75: =COUNTIF(G10:G59,"Kata") -> 0 | C75: =Configuração!$B$3 -> 600 | D75: =B75*C75 -> 0 | E75: Calculado pela lista de atletas
A76: Kumite individual | B76: =COUNTIF(G10:G59,"Kumite") -> 0 | C76: =Configuração!$B$4 -> 600 | D76: =B76*C76 -> 0 | E76: Calculado pela lista de atletas
A77: Kata e Kumite individual | B77: =COUNTIF(G10:G59,"Ambos") -> 0 | C77: =Configuração!$B$5 -> 1000 | D77: =B77*C77 -> 0 | E77: Calculado pela lista de atletas
A78: Equipa de Kata | B78: 0 | C78: =Configuração!$B$6 -> 1500 | D78: =B78*C78 -> 0 | E78: Preencher quantidade de equipas
...

Sheet Configuração
A1: TAXAS OFICIAIS DO CAMPEONATO | D1: Províncias
A2: Inscrição do Clube / Dojo | B2: 700 | D2: Cabo Delgado
A3: Kata individual | B3: 600 | D3: Niassa
A4: Kumite individual | B4: 600 | D4: Nampula
A5: Kata e Kumite individual | B5: 1000 | D5: Zambézia
A6: Equipa de Kata | B6: 1500 | D6: Tete
A7: Equipa de Kumite | B7: 1500 | D7: Manica
A8: Gashuku — por participante | B8: 100 | D8: Sofala
A9: Taxa de protesto | B9: 1500 | D9: Inhambane
D10: Gaza
A11: ORIENTAÇÕES | D11: Maputo Província
A12: 1 | B12: A taxa do Clube/Dojo é incluída automaticamente no total geral. | D12: Maputo Cidade
A13: 2 | B13: A idade e o valor individual são calculados automaticamente.
A14: 3 | B14: As quantidades de equipas, Gashuku e protestos são preenchidas na ficha principal.
